BEGIN:VCALENDAR
VERSION:2.0
PRODID:-//BOB Total Country - ECPv5.6.0//NONSGML v1.0//EN
CALSCALE:GREGORIAN
METHOD:PUBLISH
X-WR-CALNAME:BOB Total Country
X-ORIGINAL-URL:https://www.mybobcountry.com
X-WR-CALDESC:Events for BOB Total Country
BEGIN:VTIMEZONE
TZID:America/Chicago
BEGIN:DAYLIGHT
TZOFFSETFROM:-0600
TZOFFSETTO:-0500
TZNAME:CDT
DTSTART:20200308T080000
END:DAYLIGHT
BEGIN:STANDARD
TZOFFSETFROM:-0500
TZOFFSETTO:-0600
TZNAME:CST
DTSTART:20201101T070000
END:STANDARD
END:VTIMEZONE
BEGIN:VEVENT
DTSTART;TZID=America/Chicago:20200114T120000
DTEND;TZID=America/Chicago:20200114T130000
DTSTAMP:20260424T041851
CREATED:20190715T151639Z
LAST-MODIFIED:20190715T151639Z
UID:14453-1579003200-1579006800@www.mybobcountry.com
SUMMARY:All Request Lunch Hour Live at Osseo Maple Grove American Legion
DESCRIPTION:Join BOB FM’s Jim Erickson live at the Osseo Maple Grove American Legion every other Tuesday from 12:00 noon to 1:00pm! Come eat lunch\, request your favorite songs\, and win prizes!
URL:https://www.mybobcountry.com/event/all-request-lunch-hour-live-at-osseo-maple-grove-american-legion-7/2020-01-14/
LOCATION:Osseo Maple Grove American Legion\, 260 4th Ave SE\, Osseo\, MN\, 55369\, United States
CATEGORIES:Station Events
ATTACH;FMTTYPE=:
GEO:45.1126866;-93.3967858
X-APPLE-STRUCTURED-LOCATION;VALUE=URI;X-ADDRESS=Osseo Maple Grove American Legion 260 4th Ave SE Osseo MN 55369 United States;X-APPLE-RADIUS=500;X-TITLE=260 4th Ave SE:geo:-93.3967858,45.1126866
END:VEVENT
BEGIN:VEVENT
DTSTART;TZID=America/Chicago:20200117T173000
DTEND;TZID=America/Chicago:20200117T200000
DTSTAMP:20260424T041851
CREATED:20200113T224735Z
LAST-MODIFIED:20200113T224735Z
UID:15267-1579282200-1579291200@www.mybobcountry.com
SUMMARY:Osseo-Maple Grove American Legion Auxiliary Steak Fry
DESCRIPTION:Friday\, January 17 from 5:30 to 8:00 pm\nat the Osseo-Maple Grove American Legion\nSteak\, shrimp or fish dinner = $10\nCombination steak and shrimp = $12\nDinner includes baked potato\, coleslaw\, toast and coffee.\nAll proceeds donated to Legion Auxiliary programs.
URL:https://www.mybobcountry.com/event/osseo-maple-grove-american-legion-auxiliary-steak-fry-5/
LOCATION:Osseo Maple Grove American Legion\, 260 4th Ave SE\, Osseo\, MN\, 55369\, United States
CATEGORIES:BOB Bulletin Board
GEO:45.1126866;-93.3967858
X-APPLE-STRUCTURED-LOCATION;VALUE=URI;X-ADDRESS=Osseo Maple Grove American Legion 260 4th Ave SE Osseo MN 55369 United States;X-APPLE-RADIUS=500;X-TITLE=260 4th Ave SE:geo:-93.3967858,45.1126866
END:VEVENT
BEGIN:VEVENT
DTSTART;TZID=America/Chicago:20200119T080000
DTEND;TZID=America/Chicago:20200119T120000
DTSTAMP:20260424T041851
CREATED:20200113T224525Z
LAST-MODIFIED:20200113T224525Z
UID:15266-1579420800-1579435200@www.mybobcountry.com
SUMMARY:Osseo-Maple Grove American Legion Riders Omelet Breakfast
DESCRIPTION:January 19th from 8 am to 12 noon\nat the Osseo-Maple Grove American Legion\nPick your ingredients and watch our chefs cook.\n$9 includes omelet\, toast\, hashbrowns\, coffee\, juice and milk.
URL:https://www.mybobcountry.com/event/osseo-maple-grove-american-legion-riders-omelet-breakfast-4/
LOCATION:Osseo Maple Grove American Legion\, 260 4th Ave SE\, Osseo\, MN\, 55369\, United States
CATEGORIES:BOB Bulletin Board
GEO:45.1126866;-93.3967858
X-APPLE-STRUCTURED-LOCATION;VALUE=URI;X-ADDRESS=Osseo Maple Grove American Legion 260 4th Ave SE Osseo MN 55369 United States;X-APPLE-RADIUS=500;X-TITLE=260 4th Ave SE:geo:-93.3967858,45.1126866
END:VEVENT
BEGIN:VEVENT
DTSTART;TZID=America/Chicago:20200125T183000
DTEND;TZID=America/Chicago:20200125T233000
DTSTAMP:20260424T041851
CREATED:20191230T190906Z
LAST-MODIFIED:20191230T190906Z
UID:15210-1579977000-1579995000@www.mybobcountry.com
SUMMARY:7th Annual Listener Appreciation Party
DESCRIPTION:7th Annual Listener Appreciation Party\n@ Medina Entertainment Center\nSaturday\, January 25\nDoors open at 6:30\, event starts at 7:00\nFree admission\, 21 plus event. Prize giveaways\, merchandise sales\, and live music from Dayna Koehn\, Sailor Jerri and The Plott Hounds!
URL:https://www.mybobcountry.com/event/7th-annual-listener-appreciation-party/
LOCATION:Medina Entertainment Center\, 500 MN Highway 55\, Medina\, MN\, 55340\, United States
CATEGORIES:Station Events
ATTACH;FMTTYPE=:
GEO:45.0453584;-93.5346907
X-APPLE-STRUCTURED-LOCATION;VALUE=URI;X-ADDRESS=Medina Entertainment Center 500 MN Highway 55 Medina MN 55340 United States;X-APPLE-RADIUS=500;X-TITLE=500 MN Highway 55:geo:-93.5346907,45.0453584
END:VEVENT
BEGIN:VEVENT
DTSTART;TZID=America/Chicago:20200126T200000
DTEND;TZID=America/Chicago:20200126T220000
DTSTAMP:20260424T041851
CREATED:20200115T151902Z
LAST-MODIFIED:20200115T151902Z
UID:15322-1580068800-1580076000@www.mybobcountry.com
SUMMARY:The Man in Black: A Tribute to Johnny Cash at Mystic Lake Casino
DESCRIPTION:The Man in Black: A Tribute to Johnny Cash\nat Mystic Lake Casino\nSunday\, January 26 at 8 pm\nShawn Barker presents The Man in Black!\nTickets and more info here!
URL:https://www.mybobcountry.com/event/the-man-in-black-a-tribute-to-johnny-cash-at-mystic-lake-casino/
LOCATION:Mystic Lake Casino\, 2400 Mystic Lake Blvd NW\, Prior Lake\, MN\, United States
CATEGORIES:Station Events
ATTACH;FMTTYPE=:
GEO:44.7308734;-93.4735051
X-APPLE-STRUCTURED-LOCATION;VALUE=URI;X-ADDRESS=Mystic Lake Casino 2400 Mystic Lake Blvd NW Prior Lake MN United States;X-APPLE-RADIUS=500;X-TITLE=2400 Mystic Lake Blvd NW:geo:-93.4735051,44.7308734
END:VEVENT
BEGIN:VEVENT
DTSTART;TZID=America/Chicago:20200131T193000
DTEND;TZID=America/Chicago:20200131T233000
DTSTAMP:20260424T041851
CREATED:20191008T170501Z
LAST-MODIFIED:20191008T170501Z
UID:14900-1580499000-1580513400@www.mybobcountry.com
SUMMARY:World According to Garth at Medina Entertainment Center
DESCRIPTION:World According to Garth – A Garth Brooks Tribute at Medina Entertainment Center\nFriday\, January 31 at 7:30 pm\nWith guest The Farmer’s Daughters\nFor tickets and more information\, click here!
URL:https://www.mybobcountry.com/event/world-according-to-garth-at-medina-entertainment-center/
LOCATION:Medina Entertainment Center\, 500 MN Highway 55\, Medina\, MN\, 55340\, United States
CATEGORIES:Station Events
ATTACH;FMTTYPE=:
GEO:45.0453584;-93.5346907
X-APPLE-STRUCTURED-LOCATION;VALUE=URI;X-ADDRESS=Medina Entertainment Center 500 MN Highway 55 Medina MN 55340 United States;X-APPLE-RADIUS=500;X-TITLE=500 MN Highway 55:geo:-93.5346907,45.0453584
END:VEVENT
BEGIN:VEVENT
DTSTART;VALUE=DATE:20200207
DTEND;VALUE=DATE:20200210
DTSTAMP:20260424T041851
CREATED:20191210T161754Z
LAST-MODIFIED:20191210T161754Z
UID:15147-1581033600-1581292799@www.mybobcountry.com
SUMMARY:St. Cloud Sportsmen's Show
DESCRIPTION:St. Cloud Sportsmen’s Show\nFriday\, February 7 through Sunday\, February 9\n32nd Annual St. Cloud Sportsmen’s Show\n@ River’s Edge Convention Center\nFriday: 12noon-9pm\nSaturday: 10a-8p\nSunday: 10a-5p\nFor all of the details and to purchase your tickets\, click here!
URL:https://www.mybobcountry.com/event/st-cloud-sportsmens-show/
LOCATION:River’s Edge Convention Center\, 10 South 4th Avenue\, St. Cloud\, MN\, 56301\, United States
CATEGORIES:Station Events
ATTACH;FMTTYPE=:
END:VEVENT
BEGIN:VEVENT
DTSTART;TZID=America/Chicago:20200208T110000
DTEND;TZID=America/Chicago:20200208T160000
DTSTAMP:20260424T041851
CREATED:20200128T182735Z
LAST-MODIFIED:20200128T182735Z
UID:15364-1581159600-1581177600@www.mybobcountry.com
SUMMARY:Ham Lake Snowbowl 2020
DESCRIPTION:Ham Lake Snowbowl 2020\nFebruary 8\, 2020 from 11am-4pm\n@ Ham Lake Park (153rd Ave. Ham Lake\, MN 55304)\nFree to Attend! Registration fees apply to Snow Sculpting\, Ruck\, Ice Fishing\, Bike Ride and Broomball.\nEvents include: Broomball tournament\, fat tire bike ride\, ice fishing contest\, kids pro ice\, kids’ activities (sliding hill\, gaga pit and more)\, medallion hunt\, and more!\nNeil Freeman will be emceeing the event!\nMore information: https://www.hamlakeareacc.org/snowbowl/
URL:https://www.mybobcountry.com/event/ham-lake-snowbowl-2020/
LOCATION:Ham Lake Park\, 1843 153rd Avenue NE\, Ham Lake\, MN\, 55304\, United States
CATEGORIES:Station Events
ATTACH;FMTTYPE=:
GEO:45.2495976;-93.2211235
X-APPLE-STRUCTURED-LOCATION;VALUE=URI;X-ADDRESS=Ham Lake Park 1843 153rd Avenue NE Ham Lake MN 55304 United States;X-APPLE-RADIUS=500;X-TITLE=1843 153rd Avenue NE:geo:-93.2211235,45.2495976
END:VEVENT
BEGIN:VEVENT
DTSTART;TZID=America/Chicago:20200216T080000
DTEND;TZID=America/Chicago:20200216T120000
DTSTAMP:20260424T041851
CREATED:20200213T183156Z
LAST-MODIFIED:20200213T183156Z
UID:15459-1581840000-1581854400@www.mybobcountry.com
SUMMARY:Omelet Breakfast at Osseo Maple Grove American Legion
DESCRIPTION:Osseo-Maple Grove American Legion Riders Omelet Breakfast\nat Osseo-Maple Grove American Legion\nSunday\, February 16 from 8 am to 12 noon\n$9 includes omelet\, toast\, hash browns\, coffee\, juice\, and milk
URL:https://www.mybobcountry.com/event/omelet-breakfast-at-osseo-maple-grove-american-legion/
LOCATION:Osseo Maple Grove American Legion\, 260 4th Ave SE\, Osseo\, MN\, 55369\, United States
CATEGORIES:BOB Bulletin Board
GEO:45.1126866;-93.3967858
X-APPLE-STRUCTURED-LOCATION;VALUE=URI;X-ADDRESS=Osseo Maple Grove American Legion 260 4th Ave SE Osseo MN 55369 United States;X-APPLE-RADIUS=500;X-TITLE=260 4th Ave SE:geo:-93.3967858,45.1126866
END:VEVENT
BEGIN:VEVENT
DTSTART;TZID=America/Chicago:20200221T173000
DTEND;TZID=America/Chicago:20200221T200000
DTSTAMP:20260424T041851
CREATED:20200213T183419Z
LAST-MODIFIED:20200213T183419Z
UID:15460-1582306200-1582315200@www.mybobcountry.com
SUMMARY:Steak Fry and Bake Sale at Osseo Maple Grove American Legion
DESCRIPTION:Osseo-Maple Grove American Legion Auxiliary Steak Fry and Bake Sale\nat Osseo-Maple Grove American Legion\nFriday\, February 21 from 5:30 pm to 8:00 pm\n$10 for steak\, fish or shrimp dinner\n$12 for steak and shrimp combo dinner\nDinner includes baked potato\, coleslaw\, toast and coffee
URL:https://www.mybobcountry.com/event/steak-fry-and-bake-sale-at-osseo-maple-grove-american-legion/
LOCATION:Osseo Maple Grove American Legion\, 260 4th Ave SE\, Osseo\, MN\, 55369\, United States
CATEGORIES:BOB Bulletin Board
GEO:45.1126866;-93.3967858
X-APPLE-STRUCTURED-LOCATION;VALUE=URI;X-ADDRESS=Osseo Maple Grove American Legion 260 4th Ave SE Osseo MN 55369 United States;X-APPLE-RADIUS=500;X-TITLE=260 4th Ave SE:geo:-93.3967858,45.1126866
END:VEVENT
BEGIN:VEVENT
DTSTART;VALUE=DATE:20200313
DTEND;VALUE=DATE:20200316
DTSTAMP:20260424T041851
CREATED:20200203T211016Z
LAST-MODIFIED:20200203T211016Z
UID:15396-1584057600-1584316799@www.mybobcountry.com
SUMMARY:Outdoor News Deer & Turkey Classic 2020 at Canterbury Park
DESCRIPTION:Outdoor News Deer & Turkey Classic 2020 at Canterbury Park\nFriday\, March 13 through Sunday\, March 15\nSee the best showcase of Minnesota bucks under one roof!\nNeil Freeman will be live on location from 3 to 5 pm on Friday\, March 13th!\nMore information here!
URL:https://www.mybobcountry.com/event/outdoor-news-deer-turkey-classic-2020-at-canterbury-park/
LOCATION:MN
CATEGORIES:Station Events
ATTACH;FMTTYPE=:
END:VEVENT
BEGIN:VEVENT
DTSTART;TZID=America/Chicago:20200313T170000
DTEND;TZID=America/Chicago:20200313T230000
DTSTAMP:20260424T041851
CREATED:20200302T131629Z
LAST-MODIFIED:20200302T131629Z
UID:15690-1584118800-1584140400@www.mybobcountry.com
SUMMARY:Homeless Veterans Steak Fry at Osseo Maple Grove American Legion
DESCRIPTION:Homeless Veterans Steak Fry at Osseo Maple Grove American Legion\nFriday\, March 13th from 5 to 8 pm\n$10 for Steak\, Fish or Shrimp Dinner (includes baked potato\, coleslaw and toast)\nLive music by Becky Rae Dalton and Sailor Jerri\nAsking for donations of NEW and PACKAGED white t-shirts\, underwear and socks for our male and female Veterans.
URL:https://www.mybobcountry.com/event/homeless-veterans-steak-fry-at-osseo-maple-grove-american-legion/
LOCATION:Osseo Maple Grove American Legion\, 260 4th Ave SE\, Osseo\, MN\, 55369\, United States
CATEGORIES:Station Events
ATTACH;FMTTYPE=:
GEO:45.1126866;-93.3967858
X-APPLE-STRUCTURED-LOCATION;VALUE=URI;X-ADDRESS=Osseo Maple Grove American Legion 260 4th Ave SE Osseo MN 55369 United States;X-APPLE-RADIUS=500;X-TITLE=260 4th Ave SE:geo:-93.3967858,45.1126866
END:VEVENT
BEGIN:VEVENT
DTSTART;VALUE=DATE:20200314
DTEND;VALUE=DATE:20200316
DTSTAMP:20260424T041851
CREATED:20200203T205754Z
LAST-MODIFIED:20200203T205754Z
UID:15393-1584144000-1584316799@www.mybobcountry.com
SUMMARY:54th Annual Woodcarving Artistry Show at Northtown Mall
DESCRIPTION:54th Annual Woodcarving Artistry Show at Northtown Mall\nSaturday\, March 14\, 2020 from 10a-6p & Sunday\, March 15th from 11a-5p\nPresented y the Metro Chapter of the Minnesota Wood Carvers Association\nSign up for beginner classes during the show. This is a non-selling/non-judging show.
URL:https://www.mybobcountry.com/event/54th-annual-woodcarving-artistry-show-at-northtown-mall/
LOCATION:Northtown Mall\, 398 Northtown Drive\, Blaine\, MN\, 55434\, United States
CATEGORIES:BOB Bulletin Board
GEO:45.1250496;-93.2597174
X-APPLE-STRUCTURED-LOCATION;VALUE=URI;X-ADDRESS=Northtown Mall 398 Northtown Drive Blaine MN 55434 United States;X-APPLE-RADIUS=500;X-TITLE=398 Northtown Drive:geo:-93.2597174,45.1250496
END:VEVENT
BEGIN:VEVENT
DTSTART;TZID=America/Chicago:20200314T080000
DTEND;TZID=America/Chicago:20200314T140000
DTSTAMP:20260424T041851
CREATED:20200203T210347Z
LAST-MODIFIED:20200203T210347Z
UID:15394-1584172800-1584194400@www.mybobcountry.com
SUMMARY:2020 North Suburban Home Show - Canceled
DESCRIPTION:2020 North Suburban Home Show\nat Andover YMCA Community Center\nSaturday\, March 14 from 8a-2p\nNeil Freeman will be live on location from 9a to 12 noon!\nMore information here!
URL:https://www.mybobcountry.com/event/2020-north-suburban-home-show/
LOCATION:Andover YMCA\, 15200 Hanson Blvd. NW\, Andover\, MN\, 55304\, United States
CATEGORIES:Station Events
ATTACH;FMTTYPE=:
GEO:45.2465326;-93.3084419
X-APPLE-STRUCTURED-LOCATION;VALUE=URI;X-ADDRESS=Andover YMCA 15200 Hanson Blvd. NW Andover MN 55304 United States;X-APPLE-RADIUS=500;X-TITLE=15200 Hanson Blvd. NW:geo:-93.3084419,45.2465326
END:VEVENT
BEGIN:VEVENT
DTSTART;VALUE=DATE:20200502
DTEND;VALUE=DATE:20200503
DTSTAMP:20260424T041851
CREATED:20190920T215036Z
LAST-MODIFIED:20190920T215036Z
UID:14828-1588377600-1588463999@www.mybobcountry.com
SUMMARY:Kenny Chesney at U.S. Bank Stadium - RESCHEDULED
DESCRIPTION:Kenny Chesney at U.S. Bank Stadium\nThe new showdate for Minneapolis (U.S.Bank Stadium) is Saturday\, June 5 2021\nfeaturing Florida Georgia Line\, Old Dominion and Michael Franti + Spearhead\nOriginal tickets are automatically valid for the rescheduled show dates. Patrons unable to attend the rescheduled shows have thirty (30) days from today’s date to request a refund at the point of purchase.\n3rd party sellers may have their own refund policies.
URL:https://www.mybobcountry.com/event/kenny-chesney-at-u-s-bank-stadium/
LOCATION:U.S. Bank Stadium\, 401 Chicago Avenue\, Minneapolis\, MN\, 55415\, United States
CATEGORIES:Station Events
ATTACH;FMTTYPE=:
GEO:44.975054;-93.258179
X-APPLE-STRUCTURED-LOCATION;VALUE=URI;X-ADDRESS=U.S. Bank Stadium 401 Chicago Avenue Minneapolis MN 55415 United States;X-APPLE-RADIUS=500;X-TITLE=401 Chicago Avenue:geo:-93.258179,44.975054
END:VEVENT
BEGIN:VEVENT
DTSTART;TZID=America/Chicago:20200610T180000
DTEND;TZID=America/Chicago:20200610T200000
DTSTAMP:20260424T041851
CREATED:20200113T225050Z
LAST-MODIFIED:20200113T225050Z
UID:15268-1591812000-1591819200@www.mybobcountry.com
SUMMARY:Concert in the Park Series: Shane Martin
DESCRIPTION:Concert in the Park Series: Shane Martin\nWednesday\, June 10\, 2020 from 6-8 pm\nat Riverfront Memorial Park in Anoka
URL:https://www.mybobcountry.com/event/concert-in-the-park-series-shane-martin/
LOCATION:Riverfront Memorial Park Anoka\, 2201 2nd Ave\, Anoka\, MN\, 55303\, United States
CATEGORIES:Station Events
ATTACH;FMTTYPE=:
END:VEVENT
BEGIN:VEVENT
DTSTART;TZID=America/Chicago:20200621T180000
DTEND;TZID=America/Chicago:20200621T210000
DTSTAMP:20260424T041851
CREATED:20191209T173242Z
LAST-MODIFIED:20191209T173242Z
UID:15138-1592762400-1592773200@www.mybobcountry.com
SUMMARY:RESCHEDULED: Jeff Foxworthy at the Orpheum
DESCRIPTION:UPDATE: This show has been rescheduled for November 28th at 7:00pm. All original tickets will be accepted for the new date.\n\nORIGINAL Post: Jeff Foxworthy returns to Minnesota as part of the Minneapolis Comedy Fest on Sunday\, June 21st at the Orpheum Theatre! The show starts at 6:00pm!\n\nTickets go on sale Friday\, December 13 at 1o am. Pre-sale is Thursday\, December 12 from 10 am to 10 pm. Use the code MCF2020 to get your tickets!
URL:https://www.mybobcountry.com/event/jeff-foxworthy-at-the-orpheum/
LOCATION:Orpheum Theatre\, 910 Hennepin Avenue\, Minneapolis\, MN\, 55403\, United States
CATEGORIES:Station Events
ATTACH;FMTTYPE=:
GEO:44.97643;-93.2776119
X-APPLE-STRUCTURED-LOCATION;VALUE=URI;X-ADDRESS=Orpheum Theatre 910 Hennepin Avenue Minneapolis MN 55403 United States;X-APPLE-RADIUS=500;X-TITLE=910 Hennepin Avenue:geo:-93.2776119,44.97643
END:VEVENT
BEGIN:VEVENT
DTSTART;TZID=America/Chicago:20200626T150000
DTEND;TZID=America/Chicago:20200626T170000
DTSTAMP:20260424T041851
CREATED:20200611T192238Z
LAST-MODIFIED:20200611T192238Z
UID:16164-1593183600-1593190800@www.mybobcountry.com
SUMMARY:Live Broadcast at Cub in Plymouth
DESCRIPTION:Live Broadcast at Cub in Plymouth\nFriday\, June 26 from 3 to 5 pm\nRegister to win a 2020 Sea Doo Spark and hang out with Neil Freeman!
URL:https://www.mybobcountry.com/event/live-broadcast-at-cub-in-plymouth/
LOCATION:Cub Plymouth\, 10200 6th Ave N\, Plymouth\, MN\, 55441\, United States
CATEGORIES:Station Events
ATTACH;FMTTYPE=:
END:VEVENT
BEGIN:VEVENT
DTSTART;TZID=America/Chicago:20200627T100000
DTEND;TZID=America/Chicago:20200627T120000
DTSTAMP:20260424T041851
CREATED:20200611T192902Z
LAST-MODIFIED:20200611T192902Z
UID:16166-1593252000-1593259200@www.mybobcountry.com
SUMMARY:Live Broadcast at Cub in Minnetonka
DESCRIPTION:Live Broadcast at Cub in Minnetonka\nSaturday June 27th Minnetonka Cub from 10 to noon.\nRegister to win a 2020 Sea Doo Spark and hang out with Neil Freeman!
URL:https://www.mybobcountry.com/event/live-broadcast-at-cub-in-minnetonka/
LOCATION:Cub Minnetonka\, 4801 County Rd 101\, Minnetonka\, MN\, 55345\, United States
CATEGORIES:Station Events
ATTACH;FMTTYPE=:
GEO:44.9160081;-93.5014509
X-APPLE-STRUCTURED-LOCATION;VALUE=URI;X-ADDRESS=Cub Minnetonka 4801 County Rd 101 Minnetonka MN 55345 United States;X-APPLE-RADIUS=500;X-TITLE=4801 County Rd 101:geo:-93.5014509,44.9160081
END:VEVENT
BEGIN:VEVENT
DTSTART;TZID=America/Chicago:20200723T180000
DTEND;TZID=America/Chicago:20200723T210000
DTSTAMP:20260424T041851
CREATED:20200722T193452Z
LAST-MODIFIED:20200722T193452Z
UID:16335-1595527200-1595538000@www.mybobcountry.com
SUMMARY:Music on the Patio with Michael Paul Duo
DESCRIPTION:Come out and enjoy a night of free live music at the Medina Entertainment Center!\nThursday\, July 23\n6:00 pm – 9:00 pm\nShine Outside / Rain inside\nDon’t miss it!
URL:https://www.mybobcountry.com/event/music-on-the-patio-with-michael-paul-duo/
LOCATION:Medina Entertainment Center\, 500 MN Highway 55\, Medina\, MN\, 55340\, United States
CATEGORIES:Station Events
ATTACH;FMTTYPE=:
GEO:45.0453584;-93.5346907
X-APPLE-STRUCTURED-LOCATION;VALUE=URI;X-ADDRESS=Medina Entertainment Center 500 MN Highway 55 Medina MN 55340 United States;X-APPLE-RADIUS=500;X-TITLE=500 MN Highway 55:geo:-93.5346907,45.0453584
END:VEVENT
BEGIN:VEVENT
DTSTART;TZID=America/Chicago:20200729T120000
DTEND;TZID=America/Chicago:20200729T130000
DTSTAMP:20260424T041851
CREATED:20200728T194003Z
LAST-MODIFIED:20200728T194003Z
UID:16366-1596024000-1596027600@www.mybobcountry.com
SUMMARY:All Request Lunch Hour Live at the Bloomington Everett McClay
DESCRIPTION:Join BOB FM’s Jim Erickson live at the Bloomington Everett McClay every Wednesday from 12:00 noon to 1:00pm! Come eat lunch\, request your favorite songs\, and win prizes!
URL:https://www.mybobcountry.com/event/all-request-lunch-hour-live-at-the-bloomington-everett-mcclay/2020-07-29/
LOCATION:Everett McClay\, 311 West 84th St\, Bloomington\, MN\, 55420\, United States
CATEGORIES:Station Events
ATTACH;FMTTYPE=:
END:VEVENT
BEGIN:VEVENT
DTSTART;TZID=America/Chicago:20200730T180000
DTEND;TZID=America/Chicago:20200730T210000
DTSTAMP:20260424T041851
CREATED:20200722T193729Z
LAST-MODIFIED:20200722T193729Z
UID:16337-1596132000-1596142800@www.mybobcountry.com
SUMMARY:Music on the Patio with Shane Martin
DESCRIPTION:Come out and enjoy a night of free live music at the Medina Entertainment Center!\nThursday\, July 30\n6:00 pm – 9:00 pm\nShine Outside / Rain inside\nDon’t miss it!
URL:https://www.mybobcountry.com/event/music-on-the-patio-with-shane-martin/
LOCATION:Medina Entertainment Center\, 500 MN Highway 55\, Medina\, MN\, 55340\, United States
CATEGORIES:Station Events
ATTACH;FMTTYPE=:
GEO:45.0453584;-93.5346907
X-APPLE-STRUCTURED-LOCATION;VALUE=URI;X-ADDRESS=Medina Entertainment Center 500 MN Highway 55 Medina MN 55340 United States;X-APPLE-RADIUS=500;X-TITLE=500 MN Highway 55:geo:-93.5346907,45.0453584
END:VEVENT
BEGIN:VEVENT
DTSTART;TZID=America/Chicago:20200806T180000
DTEND;TZID=America/Chicago:20200806T210000
DTSTAMP:20260424T041851
CREATED:20200722T193905Z
LAST-MODIFIED:20200722T193905Z
UID:16339-1596736800-1596747600@www.mybobcountry.com
SUMMARY:Music on the Patio with Jason Paulson Duo
DESCRIPTION:Come out and enjoy a night of free live music at the Medina Entertainment Center!\nThursday\, August 6\n6:00 pm – 9:00 pm\nShine Outside / Rain inside\nDon’t miss it!
URL:https://www.mybobcountry.com/event/music-on-the-patio-with-jason-paulson-duo/
LOCATION:Medina Entertainment Center\, 500 MN Highway 55\, Medina\, MN\, 55340\, United States
CATEGORIES:Station Events
ATTACH;FMTTYPE=:
GEO:45.0453584;-93.5346907
X-APPLE-STRUCTURED-LOCATION;VALUE=URI;X-ADDRESS=Medina Entertainment Center 500 MN Highway 55 Medina MN 55340 United States;X-APPLE-RADIUS=500;X-TITLE=500 MN Highway 55:geo:-93.5346907,45.0453584
END:VEVENT
BEGIN:VEVENT
DTSTART;TZID=America/Chicago:20200813T180000
DTEND;TZID=America/Chicago:20200813T210000
DTSTAMP:20260424T041851
CREATED:20200722T194050Z
LAST-MODIFIED:20200722T194050Z
UID:16341-1597341600-1597352400@www.mybobcountry.com
SUMMARY:Music on the Patio with The Jorgensens
DESCRIPTION:Come out and enjoy a night of free live music at the Medina Entertainment Center!\nThursday\, August 13\n6:00 pm – 9:00 pm\nShine Outside / Rain inside\nDon’t miss it!
URL:https://www.mybobcountry.com/event/music-on-the-patio-with-the-jorgensens/
LOCATION:Medina Entertainment Center\, 500 MN Highway 55\, Medina\, MN\, 55340\, United States
CATEGORIES:Station Events
ATTACH;FMTTYPE=:
GEO:45.0453584;-93.5346907
X-APPLE-STRUCTURED-LOCATION;VALUE=URI;X-ADDRESS=Medina Entertainment Center 500 MN Highway 55 Medina MN 55340 United States;X-APPLE-RADIUS=500;X-TITLE=500 MN Highway 55:geo:-93.5346907,45.0453584
END:VEVENT
BEGIN:VEVENT
DTSTART;TZID=America/Chicago:20200820T180000
DTEND;TZID=America/Chicago:20200820T210000
DTSTAMP:20260424T041851
CREATED:20200722T194224Z
LAST-MODIFIED:20200722T194224Z
UID:16343-1597946400-1597957200@www.mybobcountry.com
SUMMARY:Music on the Patio with Shalo Lee Duo
DESCRIPTION:Come out and enjoy a night of free live music at the Medina Entertainment Center!\nThursday\, August 20\n6:00 pm – 9:00 pm\nShine Outside / Rain inside\nDon’t miss it!
URL:https://www.mybobcountry.com/event/music-on-the-patio-with-shalo-lee-duo/
LOCATION:Medina Entertainment Center\, 500 MN Highway 55\, Medina\, MN\, 55340\, United States
CATEGORIES:Station Events
ATTACH;FMTTYPE=:
GEO:45.0453584;-93.5346907
X-APPLE-STRUCTURED-LOCATION;VALUE=URI;X-ADDRESS=Medina Entertainment Center 500 MN Highway 55 Medina MN 55340 United States;X-APPLE-RADIUS=500;X-TITLE=500 MN Highway 55:geo:-93.5346907,45.0453584
END:VEVENT
BEGIN:VEVENT
DTSTART;TZID=America/Chicago:20200827T180000
DTEND;TZID=America/Chicago:20200827T210000
DTSTAMP:20260424T041851
CREATED:20200722T194328Z
LAST-MODIFIED:20200722T194328Z
UID:16345-1598551200-1598562000@www.mybobcountry.com
SUMMARY:Music on the Patio with Shane Martin
DESCRIPTION:Come out and enjoy a night of free live music at the Medina Entertainment Center!\nThursday\, August 27\n6:00 pm – 9:00 pm\nShine Outside / Rain inside\nDon’t miss it!
URL:https://www.mybobcountry.com/event/music-on-the-patio-with-shane-martin-2/
LOCATION:Medina Entertainment Center\, 500 MN Highway 55\, Medina\, MN\, 55340\, United States
CATEGORIES:Station Events
ATTACH;FMTTYPE=:
GEO:45.0453584;-93.5346907
X-APPLE-STRUCTURED-LOCATION;VALUE=URI;X-ADDRESS=Medina Entertainment Center 500 MN Highway 55 Medina MN 55340 United States;X-APPLE-RADIUS=500;X-TITLE=500 MN Highway 55:geo:-93.5346907,45.0453584
END:VEVENT
BEGIN:VEVENT
DTSTART;TZID=America/Chicago:20200903T180000
DTEND;TZID=America/Chicago:20200903T210000
DTSTAMP:20260424T041851
CREATED:20200722T194440Z
LAST-MODIFIED:20200722T194440Z
UID:16346-1599156000-1599166800@www.mybobcountry.com
SUMMARY:Music on the Patio with Jason Paulson Duo
DESCRIPTION:Come out and enjoy a night of free live music at the Medina Entertainment Center!\nThursday\, September 3\n6:00 pm – 9:00 pm\nShine Outside / Rain inside\nDon’t miss it!
URL:https://www.mybobcountry.com/event/music-on-the-patio-with-jason-paulson-duo-2/
LOCATION:Medina Entertainment Center\, 500 MN Highway 55\, Medina\, MN\, 55340\, United States
CATEGORIES:Station Events
ATTACH;FMTTYPE=:
GEO:45.0453584;-93.5346907
X-APPLE-STRUCTURED-LOCATION;VALUE=URI;X-ADDRESS=Medina Entertainment Center 500 MN Highway 55 Medina MN 55340 United States;X-APPLE-RADIUS=500;X-TITLE=500 MN Highway 55:geo:-93.5346907,45.0453584
END:VEVENT
BEGIN:VEVENT
DTSTART;TZID=America/Chicago:20200910T090000
DTEND;TZID=America/Chicago:20200910T200000
DTSTAMP:20260424T041851
CREATED:20200909T180502Z
LAST-MODIFIED:20200909T180502Z
UID:16583-1599728400-1599768000@www.mybobcountry.com
SUMMARY:Pronto Pups & Pickup Trucks\, Cheese Curds & Car Sales event
DESCRIPTION:It’s the first annual Pronto Pups & Pickup Trucks\, Cheese Curds & Car Sales event! The Mauer Auto Group is bringing all of their new and pre-owned inventory out to the Anoka County Fairgrounds and they’re offering deep discounts. All appropriate safety measures will be taken with sanitizing stations on hand. You can even get your vehicle sanitized for free.  And Geoff Jones will be broadcasting LIVE on Saturday\, Sept. 12th from 11a-2p.\nCome enjoy some great fair food and great deals!
URL:https://www.mybobcountry.com/event/pronto-pups-pickup-trucks-cheese-curds-car-sales-event/2020-09-10/
LOCATION:Anoka County Fairgrounds\, 3200 St Francis Blvd NW\, Anoka\, MN\, 55303\, United States
CATEGORIES:Station Events
ATTACH;FMTTYPE=:
GEO:45.2141429;-93.3938209
X-APPLE-STRUCTURED-LOCATION;VALUE=URI;X-ADDRESS=Anoka County Fairgrounds 3200 St Francis Blvd NW Anoka MN 55303 United States;X-APPLE-RADIUS=500;X-TITLE=3200 St Francis Blvd NW:geo:-93.3938209,45.2141429
END:VEVENT
BEGIN:VEVENT
DTSTART;TZID=America/Chicago:20200910T180000
DTEND;TZID=America/Chicago:20200910T210000
DTSTAMP:20260424T041851
CREATED:20200722T194543Z
LAST-MODIFIED:20200722T194543Z
UID:16347-1599760800-1599771600@www.mybobcountry.com
SUMMARY:Music on the Patio with The Jorgensens
DESCRIPTION:Come out and enjoy a night of free live music at the Medina Entertainment Center!\nThursday\, September 10\n6:00 pm – 9:00 pm\nShine Outside / Rain inside\nDon’t miss it!
URL:https://www.mybobcountry.com/event/music-on-the-patio-with-the-jorgensens-2/
LOCATION:Medina Entertainment Center\, 500 MN Highway 55\, Medina\, MN\, 55340\, United States
CATEGORIES:Station Events
ATTACH;FMTTYPE=:
GEO:45.0453584;-93.5346907
X-APPLE-STRUCTURED-LOCATION;VALUE=URI;X-ADDRESS=Medina Entertainment Center 500 MN Highway 55 Medina MN 55340 United States;X-APPLE-RADIUS=500;X-TITLE=500 MN Highway 55:geo:-93.5346907,45.0453584
END:VEVENT
BEGIN:VEVENT
DTSTART;TZID=America/Chicago:20200912T170000
DTEND;TZID=America/Chicago:20200912T200000
DTSTAMP:20260424T041851
CREATED:20200805T193935Z
LAST-MODIFIED:20200805T193935Z
UID:16432-1599930000-1599940800@www.mybobcountry.com
SUMMARY:Norm Hamlet\, Mario Carboni\, & Mark Wayne at the Zephyr Theatre
DESCRIPTION:Come enjoy some live music at the Zephyr Theatre in Stillwater!\nSaturday\, September 12 at 5:00 pm\nClick here to get your tickets now and here for more information!
URL:https://www.mybobcountry.com/event/norm-hamlet-mario-carboni-mark-wayne-at-the-zephyr-theatre/
LOCATION:The Zephyr Theatre\, 601 Main St. N\, Stillwater\, MN\, 55082\, United States
CATEGORIES:Station Events
ATTACH;FMTTYPE=:
END:VEVENT
END:VCALENDAR