BEGIN:VCALENDAR
VERSION:2.0
PRODID:-//BOB Total Country - ECPv5.6.0//NONSGML v1.0//EN
CALSCALE:GREGORIAN
METHOD:PUBLISH
X-WR-CALNAME:BOB Total Country
X-ORIGINAL-URL:https://www.mybobcountry.com
X-WR-CALDESC:Events for BOB Total Country
BEGIN:VTIMEZONE
TZID:America/Chicago
BEGIN:DAYLIGHT
TZOFFSETFROM:-0600
TZOFFSETTO:-0500
TZNAME:CDT
DTSTART:20260308T080000
END:DAYLIGHT
BEGIN:STANDARD
TZOFFSETFROM:-0500
TZOFFSETTO:-0600
TZNAME:CST
DTSTART:20261101T070000
END:STANDARD
END:VTIMEZONE
BEGIN:VEVENT
DTSTART;TZID=America/Chicago:20260424T090000
DTEND;TZID=America/Chicago:20260426T190000
DTSTAMP:20260424T052223
CREATED:20260405T163433Z
LAST-MODIFIED:20260414T174438Z
UID:24954-1777021200-1777230000@www.mybobcountry.com
SUMMARY:MN Horse Expo 2026
DESCRIPTION:Minnesota’s Largest Equine Trade Show and Breed Exhibition\nAnd Neil Freeman will be broadcasting live on Friday\, April 24th from 3p-5p!\n\nThe Minnesota Horse Expo in Saint Paul\, Minnesota\, is an exhilarating celebration of all things equestrian\, offering a diverse array of events and activities for horse enthusiasts of all ages. Spectators are treated to thrilling performances showcasing the grace and power of these majestic animals including the driving derby competition\, breathtaking Dream Horse Journey show\, and exhilarating drill team performances.\n\n\nVisitors can also participate in educational seminars led by industry experts\, covering topics ranging from equine health and care to training techniques and riding disciplines. Additionally\, the expo features a bustling marketplace where attendees can shop for everything equine-related\, from tack and gear to artisanal crafts and artwork.  Don’t miss the opportunity to ride a horse\, pony or wagon at Expo!
URL:https://www.mybobcountry.com/event/mn-horse-expo-2026/
LOCATION:Minnesota State Fair Grounds\, 1265 Snelling Ave N\, St. Paul\, MN\, 55108\, United States
CATEGORIES:Station Events
ATTACH;FMTTYPE=image/png:https://dehayf5mhw1h7.cloudfront.net/wp-content/uploads/sites/2340/2024/03/05173433/mn-horse-expo-2026.png
GEO:44.9810779;-93.1676184
X-APPLE-STRUCTURED-LOCATION;VALUE=URI;X-ADDRESS=Minnesota State Fair Grounds 1265 Snelling Ave N St. Paul MN 55108 United States;X-APPLE-RADIUS=500;X-TITLE=1265 Snelling Ave N:geo:-93.1676184,44.9810779
END:VEVENT
BEGIN:VEVENT
DTSTART;TZID=America/Chicago:20260425T090000
DTEND;TZID=America/Chicago:20260427T190000
DTSTAMP:20260424T052223
CREATED:20260405T163433Z
LAST-MODIFIED:20260405T163433Z
UID:74350-1777107600-1777316400@www.mybobcountry.com
SUMMARY:MN Horse Expo 2026
DESCRIPTION:Minnesota’s Largest Equine Trade Show and Breed Exhibition\nAnd Neil Freeman will be broadcasting live on Friday\, April 24th from 3p-5p!\n\nThe Minnesota Horse Expo in Saint Paul\, Minnesota\, is an exhilarating celebration of all things equestrian\, offering a diverse array of events and activities for horse enthusiasts of all ages. Spectators are treated to thrilling performances showcasing the grace and power of these majestic animals including the driving derby competition\, breathtaking Dream Horse Journey show\, and exhilarating drill team performances.\n\n\nVisitors can also participate in educational seminars led by industry experts\, covering topics ranging from equine health and care to training techniques and riding disciplines. Additionally\, the expo features a bustling marketplace where attendees can shop for everything equine-related\, from tack and gear to artisanal crafts and artwork.  Don’t miss the opportunity to ride a horse\, pony or wagon at Expo!
URL:https://www.mybobcountry.com/event/mn-horse-expo-2026/2026-04-25/
LOCATION:Minnesota State Fair Grounds\, 1265 Snelling Ave N\, St. Paul\, MN\, 55108\, United States
CATEGORIES:Station Events
ATTACH;FMTTYPE=image/png:https://dehayf5mhw1h7.cloudfront.net/wp-content/uploads/sites/2340/2024/03/05173433/mn-horse-expo-2026.png
GEO:44.9810779;-93.1676184
X-APPLE-STRUCTURED-LOCATION;VALUE=URI;X-ADDRESS=Minnesota State Fair Grounds 1265 Snelling Ave N St. Paul MN 55108 United States;X-APPLE-RADIUS=500;X-TITLE=1265 Snelling Ave N:geo:-93.1676184,44.9810779
END:VEVENT
BEGIN:VEVENT
DTSTART;TZID=America/Chicago:20260426T130000
DTEND;TZID=America/Chicago:20260426T200000
DTSTAMP:20260424T052223
CREATED:20260405T163433Z
LAST-MODIFIED:20260405T163433Z
UID:74351-1777208400-1777233600@www.mybobcountry.com
SUMMARY:MN Horse Expo 2026
DESCRIPTION:Minnesota’s Largest Equine Trade Show and Breed Exhibition\nAnd Neil Freeman will be broadcasting live on Friday\, April 24th from 3p-5p!\n\nThe Minnesota Horse Expo in Saint Paul\, Minnesota\, is an exhilarating celebration of all things equestrian\, offering a diverse array of events and activities for horse enthusiasts of all ages. Spectators are treated to thrilling performances showcasing the grace and power of these majestic animals including the driving derby competition\, breathtaking Dream Horse Journey show\, and exhilarating drill team performances.\n\n\nVisitors can also participate in educational seminars led by industry experts\, covering topics ranging from equine health and care to training techniques and riding disciplines. Additionally\, the expo features a bustling marketplace where attendees can shop for everything equine-related\, from tack and gear to artisanal crafts and artwork.  Don’t miss the opportunity to ride a horse\, pony or wagon at Expo!
URL:https://www.mybobcountry.com/event/mn-horse-expo-2026/2026-04-26/
LOCATION:Minnesota State Fair Grounds\, 1265 Snelling Ave N\, St. Paul\, MN\, 55108\, United States
CATEGORIES:Station Events
ATTACH;FMTTYPE=image/png:https://dehayf5mhw1h7.cloudfront.net/wp-content/uploads/sites/2340/2024/03/05173433/mn-horse-expo-2026.png
GEO:44.9810779;-93.1676184
X-APPLE-STRUCTURED-LOCATION;VALUE=URI;X-ADDRESS=Minnesota State Fair Grounds 1265 Snelling Ave N St. Paul MN 55108 United States;X-APPLE-RADIUS=500;X-TITLE=1265 Snelling Ave N:geo:-93.1676184,44.9810779
END:VEVENT
END:VCALENDAR